BEGIN:VCALENDAR
VERSION:2.0
PRODID:https://www.kufer.de/kuferweb / DE
METHOD:PUBLISH
CALSCALE:GREGORIAN
X-WR-TIMEZONE:Europe/Berlin
BEGIN:VTIMEZONE
TZID:Europe/Berlin
X-LIC-LOCATION:Europe/Berlin
BEGIN:DAYLIGHT
TZOFFSETFROM:+0100
TZOFFSETTO:+0200
TZNAME:CEST
DTSTART:19700329T020000
RRULE:FREQ=YEARLY;INTERVAL=1;BYDAY=-1SU;BYMONTH=3
END:DAYLIGHT
BEGIN:STANDARD
TZOFFSETFROM:+0200
TZOFFSETTO:+0100
TZNAME:CET
DTSTART:19701025T030000
RRULE:FREQ=YEARLY;INTERVAL=1;BYDAY=-1SU;BYMONTH=10
END:STANDARD
END:VTIMEZONE
BEGIN:VEVENT
DTSTAMP:20260421T195839
DTSTART;TZID=Europe/Berlin:20260915T183000
DTEND;TZID=Europe/Berlin:20260915T200000
UID:F60610-20260915T183000@VHSSIEBENGEBIRGE
SUMMARY:B1/B2 Getting Further Ahead (F60610) 
LOCATION:Grundschule am Lauterbach, Oelinghovener Str. 6-8, 53639 Königswinter
END:VEVENT
BEGIN:VEVENT
DTSTAMP:20260421T195839
DTSTART;TZID=Europe/Berlin:20260922T183000
DTEND;TZID=Europe/Berlin:20260922T200000
UID:F60610-20260922T183000@VHSSIEBENGEBIRGE
SUMMARY:B1/B2 Getting Further Ahead (F60610) 
LOCATION:Grundschule am Lauterbach, Oelinghovener Str. 6-8, 53639 Königswinter
END:VEVENT
BEGIN:VEVENT
DTSTAMP:20260421T195839
DTSTART;TZID=Europe/Berlin:20260929T183000
DTEND;TZID=Europe/Berlin:20260929T200000
UID:F60610-20260929T183000@VHSSIEBENGEBIRGE
SUMMARY:B1/B2 Getting Further Ahead (F60610) 
LOCATION:Grundschule am Lauterbach, Oelinghovener Str. 6-8, 53639 Königswinter
END:VEVENT
BEGIN:VEVENT
DTSTAMP:20260421T195839
DTSTART;TZID=Europe/Berlin:20261006T183000
DTEND;TZID=Europe/Berlin:20261006T200000
UID:F60610-20261006T183000@VHSSIEBENGEBIRGE
SUMMARY:B1/B2 Getting Further Ahead (F60610) 
LOCATION:Grundschule am Lauterbach, Oelinghovener Str. 6-8, 53639 Königswinter
END:VEVENT
BEGIN:VEVENT
DTSTAMP:20260421T195839
DTSTART;TZID=Europe/Berlin:20261013T183000
DTEND;TZID=Europe/Berlin:20261013T200000
UID:F60610-20261013T183000@VHSSIEBENGEBIRGE
SUMMARY:B1/B2 Getting Further Ahead (F60610) 
LOCATION:Grundschule am Lauterbach, Oelinghovener Str. 6-8, 53639 Königswinter
END:VEVENT
BEGIN:VEVENT
DTSTAMP:20260421T195839
DTSTART;TZID=Europe/Berlin:20261103T183000
DTEND;TZID=Europe/Berlin:20261103T200000
UID:F60610-20261103T183000@VHSSIEBENGEBIRGE
SUMMARY:B1/B2 Getting Further Ahead (F60610) 
LOCATION:Grundschule am Lauterbach, Oelinghovener Str. 6-8, 53639 Königswinter
END:VEVENT
BEGIN:VEVENT
DTSTAMP:20260421T195839
DTSTART;TZID=Europe/Berlin:20261110T183000
DTEND;TZID=Europe/Berlin:20261110T200000
UID:F60610-20261110T183000@VHSSIEBENGEBIRGE
SUMMARY:B1/B2 Getting Further Ahead (F60610) 
LOCATION:Grundschule am Lauterbach, Oelinghovener Str. 6-8, 53639 Königswinter
END:VEVENT
BEGIN:VEVENT
DTSTAMP:20260421T195839
DTSTART;TZID=Europe/Berlin:20261117T183000
DTEND;TZID=Europe/Berlin:20261117T200000
UID:F60610-20261117T183000@VHSSIEBENGEBIRGE
SUMMARY:B1/B2 Getting Further Ahead (F60610) 
LOCATION:Grundschule am Lauterbach, Oelinghovener Str. 6-8, 53639 Königswinter
END:VEVENT
BEGIN:VEVENT
DTSTAMP:20260421T195839
DTSTART;TZID=Europe/Berlin:20261124T183000
DTEND;TZID=Europe/Berlin:20261124T200000
UID:F60610-20261124T183000@VHSSIEBENGEBIRGE
SUMMARY:B1/B2 Getting Further Ahead (F60610) 
LOCATION:Grundschule am Lauterbach, Oelinghovener Str. 6-8, 53639 Königswinter
END:VEVENT
BEGIN:VEVENT
DTSTAMP:20260421T195839
DTSTART;TZID=Europe/Berlin:20261201T183000
DTEND;TZID=Europe/Berlin:20261201T200000
UID:F60610-20261201T183000@VHSSIEBENGEBIRGE
SUMMARY:B1/B2 Getting Further Ahead (F60610) 
LOCATION:Grundschule am Lauterbach, Oelinghovener Str. 6-8, 53639 Königswinter
END:VEVENT
BEGIN:VEVENT
DTSTAMP:20260421T195839
DTSTART;TZID=Europe/Berlin:20261208T183000
DTEND;TZID=Europe/Berlin:20261208T200000
UID:F60610-20261208T183000@VHSSIEBENGEBIRGE
SUMMARY:B1/B2 Getting Further Ahead (F60610) 
LOCATION:Grundschule am Lauterbach, Oelinghovener Str. 6-8, 53639 Königswinter
END:VEVENT
BEGIN:VEVENT
DTSTAMP:20260421T195839
DTSTART;TZID=Europe/Berlin:20261215T183000
DTEND;TZID=Europe/Berlin:20261215T200000
UID:F60610-20261215T183000@VHSSIEBENGEBIRGE
SUMMARY:B1/B2 Getting Further Ahead (F60610) 
LOCATION:Grundschule am Lauterbach, Oelinghovener Str. 6-8, 53639 Königswinter
END:VEVENT
BEGIN:VEVENT
DTSTAMP:20260421T195839
DTSTART;TZID=Europe/Berlin:20261222T183000
DTEND;TZID=Europe/Berlin:20261222T200000
UID:F60610-20261222T183000@VHSSIEBENGEBIRGE
SUMMARY:B1/B2 Getting Further Ahead (F60610) 
LOCATION:Grundschule am Lauterbach, Oelinghovener Str. 6-8, 53639 Königswinter
END:VEVENT
BEGIN:VEVENT
DTSTAMP:20260421T195839
DTSTART;TZID=Europe/Berlin:20270112T183000
DTEND;TZID=Europe/Berlin:20270112T200000
UID:F60610-20270112T183000@VHSSIEBENGEBIRGE
SUMMARY:B1/B2 Getting Further Ahead (F60610) 
LOCATION:Grundschule am Lauterbach, Oelinghovener Str. 6-8, 53639 Königswinter
END:VEVENT
BEGIN:VEVENT
DTSTAMP:20260421T195839
DTSTART;TZID=Europe/Berlin:20270119T183000
DTEND;TZID=Europe/Berlin:20270119T200000
UID:F60610-20270119T183000@VHSSIEBENGEBIRGE
SUMMARY:B1/B2 Getting Further Ahead (F60610) 
LOCATION:Grundschule am Lauterbach, Oelinghovener Str. 6-8, 53639 Königswinter
END:VEVENT
END:VCALENDAR