BEGIN:VCALENDAR
VERSION:2.0
PRODID:https://www.kufer.de/kuferweb / DE
METHOD:PUBLISH
CALSCALE:GREGORIAN
X-WR-TIMEZONE:Europe/Berlin
BEGIN:VTIMEZONE
TZID:Europe/Berlin
X-LIC-LOCATION:Europe/Berlin
BEGIN:DAYLIGHT
TZOFFSETFROM:+0100
TZOFFSETTO:+0200
TZNAME:CEST
DTSTART:19700329T020000
RRULE:FREQ=YEARLY;INTERVAL=1;BYDAY=-1SU;BYMONTH=3
END:DAYLIGHT
BEGIN:STANDARD
TZOFFSETFROM:+0200
TZOFFSETTO:+0100
TZNAME:CET
DTSTART:19701025T030000
RRULE:FREQ=YEARLY;INTERVAL=1;BYDAY=-1SU;BYMONTH=10
END:STANDARD
END:VTIMEZONE
BEGIN:VEVENT
DTSTAMP:20260421T172019
DTSTART;TZID=Europe/Berlin:20260430T190000
DTEND;TZID=Europe/Berlin:20260430T194500
UID:E50343-20260430T190000@VHSSIEBENGEBIRGE
SUMMARY:Aquafitness in Königswinter - für Fortgeschrittene (E50343) 
LOCATION:Hallenbad Königswinter, Bahnhofsallee 65, 53639 Königswinter
END:VEVENT
BEGIN:VEVENT
DTSTAMP:20260421T172019
DTSTART;TZID=Europe/Berlin:20260507T190000
DTEND;TZID=Europe/Berlin:20260507T194500
UID:E50343-20260507T190000@VHSSIEBENGEBIRGE
SUMMARY:Aquafitness in Königswinter - für Fortgeschrittene (E50343) 
LOCATION:Hallenbad Königswinter, Bahnhofsallee 65, 53639 Königswinter
END:VEVENT
BEGIN:VEVENT
DTSTAMP:20260421T172019
DTSTART;TZID=Europe/Berlin:20260521T190000
DTEND;TZID=Europe/Berlin:20260521T194500
UID:E50343-20260521T190000@VHSSIEBENGEBIRGE
SUMMARY:Aquafitness in Königswinter - für Fortgeschrittene (E50343) 
LOCATION:Hallenbad Königswinter, Bahnhofsallee 65, 53639 Königswinter
END:VEVENT
BEGIN:VEVENT
DTSTAMP:20260421T172019
DTSTART;TZID=Europe/Berlin:20260528T190000
DTEND;TZID=Europe/Berlin:20260528T194500
UID:E50343-20260528T190000@VHSSIEBENGEBIRGE
SUMMARY:Aquafitness in Königswinter - für Fortgeschrittene (E50343) 
LOCATION:Hallenbad Königswinter, Bahnhofsallee 65, 53639 Königswinter
END:VEVENT
BEGIN:VEVENT
DTSTAMP:20260421T172019
DTSTART;TZID=Europe/Berlin:20260611T190000
DTEND;TZID=Europe/Berlin:20260611T194500
UID:E50343-20260611T190000@VHSSIEBENGEBIRGE
SUMMARY:Aquafitness in Königswinter - für Fortgeschrittene (E50343) 
LOCATION:Hallenbad Königswinter, Bahnhofsallee 65, 53639 Königswinter
END:VEVENT
BEGIN:VEVENT
DTSTAMP:20260421T172019
DTSTART;TZID=Europe/Berlin:20260618T190000
DTEND;TZID=Europe/Berlin:20260618T194500
UID:E50343-20260618T190000@VHSSIEBENGEBIRGE
SUMMARY:Aquafitness in Königswinter - für Fortgeschrittene (E50343) 
LOCATION:Hallenbad Königswinter, Bahnhofsallee 65, 53639 Königswinter
END:VEVENT
BEGIN:VEVENT
DTSTAMP:20260421T172019
DTSTART;TZID=Europe/Berlin:20260625T190000
DTEND;TZID=Europe/Berlin:20260625T194500
UID:E50343-20260625T190000@VHSSIEBENGEBIRGE
SUMMARY:Aquafitness in Königswinter - für Fortgeschrittene (E50343) 
LOCATION:Hallenbad Königswinter, Bahnhofsallee 65, 53639 Königswinter
END:VEVENT
END:VCALENDAR